BEGIN:VCALENDAR
VERSION:2.0
PRODID:-//TDChristian - ECPv6.15.20//NONSGML v1.0//EN
CALSCALE:GREGORIAN
METHOD:PUBLISH
X-WR-CALNAME:TDChristian
X-ORIGINAL-URL:https://tdchristian.ca
X-WR-CALDESC:Events for TDChristian
REFRESH-INTERVAL;VALUE=DURATION:PT1H
X-Robots-Tag:noindex
X-PUBLISHED-TTL:PT1H
BEGIN:VTIMEZONE
TZID:America/Toronto
BEGIN:DAYLIGHT
TZOFFSETFROM:-0500
TZOFFSETTO:-0400
TZNAME:EDT
DTSTART:20240310T070000
END:DAYLIGHT
BEGIN:STANDARD
TZOFFSETFROM:-0400
TZOFFSETTO:-0500
TZNAME:EST
DTSTART:20241103T060000
END:STANDARD
BEGIN:DAYLIGHT
TZOFFSETFROM:-0500
TZOFFSETTO:-0400
TZNAME:EDT
DTSTART:20250309T070000
END:DAYLIGHT
BEGIN:STANDARD
TZOFFSETFROM:-0400
TZOFFSETTO:-0500
TZNAME:EST
DTSTART:20251102T060000
END:STANDARD
BEGIN:DAYLIGHT
TZOFFSETFROM:-0500
TZOFFSETTO:-0400
TZNAME:EDT
DTSTART:20260308T070000
END:DAYLIGHT
BEGIN:STANDARD
TZOFFSETFROM:-0400
TZOFFSETTO:-0500
TZNAME:EST
DTSTART:20261101T060000
END:STANDARD
END:VTIMEZONE
BEGIN:VEVENT
DTSTART;TZID=America/Toronto:20250423T080000
DTEND;TZID=America/Toronto:20250423T160000
DTSTAMP:20260423T043829
CREATED:20241113T192053Z
LAST-MODIFIED:20241113T192053Z
UID:10000309-1745395200-1745424000@tdchristian.ca
SUMMARY:Elementary School Badminton Tournament
DESCRIPTION:
URL:https://tdchristian.ca/event/elementary-school-badminton-tournament-2/
END:VEVENT
BEGIN:VEVENT
DTSTART;TZID=America/Toronto:20250423T110000
DTEND;TZID=America/Toronto:20250423T120000
DTSTAMP:20260423T043829
CREATED:20240227T155359Z
LAST-MODIFIED:20241010T173238Z
UID:10000218-1745406000-1745409600@tdchristian.ca
SUMMARY:Graduation Luncheon for the Grade 12 Classs
DESCRIPTION:Grade 12 students will enjoy a lunch in the Presentation Centre in their honour. Details for the Valedictorian and Board Leadership Awards will also be shared.
URL:https://tdchristian.ca/event/graduation-luncheon-for-the-grade-12-classs/
CATEGORIES:Student Event
END:VEVENT
END:VCALENDAR