BEGIN:VCALENDAR
VERSION:2.0
PRODID:-//TDChristian - ECPv6.15.20//NONSGML v1.0//EN
CALSCALE:GREGORIAN
METHOD:PUBLISH
X-WR-CALNAME:TDChristian
X-ORIGINAL-URL:https://tdchristian.ca
X-WR-CALDESC:Events for TDChristian
REFRESH-INTERVAL;VALUE=DURATION:PT1H
X-Robots-Tag:noindex
X-PUBLISHED-TTL:PT1H
BEGIN:VTIMEZONE
TZID:America/Toronto
BEGIN:DAYLIGHT
TZOFFSETFROM:-0500
TZOFFSETTO:-0400
TZNAME:EDT
DTSTART:20250309T070000
END:DAYLIGHT
BEGIN:STANDARD
TZOFFSETFROM:-0400
TZOFFSETTO:-0500
TZNAME:EST
DTSTART:20251102T060000
END:STANDARD
BEGIN:DAYLIGHT
TZOFFSETFROM:-0500
TZOFFSETTO:-0400
TZNAME:EDT
DTSTART:20260308T070000
END:DAYLIGHT
BEGIN:STANDARD
TZOFFSETFROM:-0400
TZOFFSETTO:-0500
TZNAME:EST
DTSTART:20261101T060000
END:STANDARD
BEGIN:DAYLIGHT
TZOFFSETFROM:-0500
TZOFFSETTO:-0400
TZNAME:EDT
DTSTART:20270314T070000
END:DAYLIGHT
BEGIN:STANDARD
TZOFFSETFROM:-0400
TZOFFSETTO:-0500
TZNAME:EST
DTSTART:20271107T060000
END:STANDARD
END:VTIMEZONE
BEGIN:VEVENT
DTSTART;VALUE=DATE:20260206
DTEND;VALUE=DATE:20260214
DTSTAMP:20260423T102137
CREATED:20250527T185835Z
LAST-MODIFIED:20251014T164203Z
UID:10000882-1770336000-1771027199@tdchristian.ca
SUMMARY:Grade 10 French Exchange in Gaspé
DESCRIPTION:
URL:https://tdchristian.ca/event/grade-10-french-exchange-in-levis/
CATEGORIES:School Trip
END:VEVENT
BEGIN:VEVENT
DTSTART;VALUE=DATE:20260209
DTEND;VALUE=DATE:20260211
DTSTAMP:20260423T102137
CREATED:20250525T233610Z
LAST-MODIFIED:20251216T162222Z
UID:10000456-1770595200-1770767999@tdchristian.ca
SUMMARY:Course Selection Discussions: Grade 9\, 10\, and 11 Round Tables
DESCRIPTION:The Guidance Team will lead session with students in Grade 9\, 10\, and 11 to introduce students to the course selection process\, and help them make their decisions regarding courses for the following year.
URL:https://tdchristian.ca/event/course-selection-discussions-grade-9-10-and-11-round-tables/
CATEGORIES:Student Event
END:VEVENT
END:VCALENDAR