BEGIN:VCALENDAR
VERSION:2.0
PRODID:-//TDChristian - ECPv6.15.20//NONSGML v1.0//EN
CALSCALE:GREGORIAN
METHOD:PUBLISH
X-ORIGINAL-URL:https://tdchristian.ca
X-WR-CALDESC:Events for TDChristian
REFRESH-INTERVAL;VALUE=DURATION:PT1H
X-Robots-Tag:noindex
X-PUBLISHED-TTL:PT1H
BEGIN:VTIMEZONE
TZID:America/Toronto
BEGIN:DAYLIGHT
TZOFFSETFROM:-0500
TZOFFSETTO:-0400
TZNAME:EDT
DTSTART:20250309T070000
END:DAYLIGHT
BEGIN:STANDARD
TZOFFSETFROM:-0400
TZOFFSETTO:-0500
TZNAME:EST
DTSTART:20251102T060000
END:STANDARD
BEGIN:DAYLIGHT
TZOFFSETFROM:-0500
TZOFFSETTO:-0400
TZNAME:EDT
DTSTART:20260308T070000
END:DAYLIGHT
BEGIN:STANDARD
TZOFFSETFROM:-0400
TZOFFSETTO:-0500
TZNAME:EST
DTSTART:20261101T060000
END:STANDARD
BEGIN:DAYLIGHT
TZOFFSETFROM:-0500
TZOFFSETTO:-0400
TZNAME:EDT
DTSTART:20270314T070000
END:DAYLIGHT
BEGIN:STANDARD
TZOFFSETFROM:-0400
TZOFFSETTO:-0500
TZNAME:EST
DTSTART:20271107T060000
END:STANDARD
END:VTIMEZONE
BEGIN:VEVENT
DTSTART;TZID=America/Toronto:20261110T190000
DTEND;TZID=America/Toronto:20261110T200000
DTSTAMP:20260423T194007
CREATED:20260422T182051Z
LAST-MODIFIED:20260422T182138Z
UID:10001087-1794337200-1794340800@tdchristian.ca
SUMMARY:Effective Giving Online Session
DESCRIPTION:Did you know you can multiply your gift by donating securities? \n\n\n\nLearn how you can save tax and invest in students through donations of shares or mutual funds and other effective giving strategies. \n\n\n\nJoin us for a complimentary seminar on Zoom.   \n\n\n\n1.5 parent/guardian volunteer hours will be given for participating in the online session on camera.
URL:https://tdchristian.ca/event/effective-giving-online-session-2/
CATEGORIES:Parent Event
END:VEVENT
BEGIN:VEVENT
DTSTART;TZID=America/Toronto:20261126T190000
DTEND;TZID=America/Toronto:20261126T210000
DTSTAMP:20260423T194007
CREATED:20260422T184304Z
LAST-MODIFIED:20260422T185636Z
UID:10001094-1795719600-1795726800@tdchristian.ca
SUMMARY:Annual General Meeting (AGM)
DESCRIPTION:Everyone in the community is invited to attend this event hosted by the TDChristian Board of Directors. During this meeting\, members will have the opportunity to vote for potential board members\, approve a new auditor\, and approve the audited financial statements for the 2025-26 school year. You will also have the chance to hear from students as they share devotions and some of things that they are learning in various classes. There is also a time for table discussions\, where you will have a chance to share your voice as TDChristian considers its next strategic plan.   \n\n\n\nAttendees in-person will receive 2.5 Parent-Guardian Volunteer Hours/ family. You can attend remotely via Zoom and receive one Parent-Guardian Volunteer Hours/ family. Either way\, please RSVP below by 9 a.m. on November 25 so we know you are coming.   \n\n\n\nWant to know more about Membership at TDChristian? Get started on our website or email marg@tdchristian.ca who can connect you with our Board secretary to answer all your questions.
URL:https://tdchristian.ca/event/annual-general-meeting-agm/
CATEGORIES:Parent Event
END:VEVENT
END:VCALENDAR