BEGIN:VCALENDAR
VERSION:2.0
PRODID:-//TDChristian - ECPv6.15.20//NONSGML v1.0//EN
CALSCALE:GREGORIAN
METHOD:PUBLISH
X-ORIGINAL-URL:https://tdchristian.ca
X-WR-CALDESC:Events for TDChristian
REFRESH-INTERVAL;VALUE=DURATION:PT1H
X-Robots-Tag:noindex
X-PUBLISHED-TTL:PT1H
BEGIN:VTIMEZONE
TZID:America/Toronto
BEGIN:DAYLIGHT
TZOFFSETFROM:-0500
TZOFFSETTO:-0400
TZNAME:EDT
DTSTART:20250309T070000
END:DAYLIGHT
BEGIN:STANDARD
TZOFFSETFROM:-0400
TZOFFSETTO:-0500
TZNAME:EST
DTSTART:20251102T060000
END:STANDARD
BEGIN:DAYLIGHT
TZOFFSETFROM:-0500
TZOFFSETTO:-0400
TZNAME:EDT
DTSTART:20260308T070000
END:DAYLIGHT
BEGIN:STANDARD
TZOFFSETFROM:-0400
TZOFFSETTO:-0500
TZNAME:EST
DTSTART:20261101T060000
END:STANDARD
BEGIN:DAYLIGHT
TZOFFSETFROM:-0500
TZOFFSETTO:-0400
TZNAME:EDT
DTSTART:20270314T070000
END:DAYLIGHT
BEGIN:STANDARD
TZOFFSETFROM:-0400
TZOFFSETTO:-0500
TZNAME:EST
DTSTART:20271107T060000
END:STANDARD
END:VTIMEZONE
BEGIN:VEVENT
DTSTART;TZID=America/Toronto:20260924T190000
DTEND;TZID=America/Toronto:20260924T210000
DTSTAMP:20260423T145141
CREATED:20260421T144331Z
LAST-MODIFIED:20260421T152515Z
UID:10001059-1790276400-1790283600@tdchristian.ca
SUMMARY:Future Directions Evening
DESCRIPTION:This is a night for parents/guardians and Grade 11 and 12 students to learn about post-secondary options including university\, college\, apprenticeship\, work\, gap year\, fifth year\, and other programs. Earn TWO Parent-Guardian Service hours per family for attending.
URL:https://tdchristian.ca/event/future-directions-evening/
CATEGORIES:Parent Event
END:VEVENT
BEGIN:VEVENT
DTSTART;TZID=America/Toronto:20260924T190000
DTEND;TZID=America/Toronto:20260924T210000
DTSTAMP:20260423T145141
CREATED:20260421T144546Z
LAST-MODIFIED:20260421T144547Z
UID:10001060-1790276400-1790283600@tdchristian.ca
SUMMARY:New Families Evening
DESCRIPTION:This is a night for parents and guardians to connect with staff\, with each other\, and to learn more about TDChristian. Earn TWO Parent-Guardian Service hours per family for attending.  Please RSVP for each person attending.
URL:https://tdchristian.ca/event/new-families-evening/
CATEGORIES:Parent Event
END:VEVENT
END:VCALENDAR