BEGIN:VCALENDAR
VERSION:2.0
PRODID:-//TDChristian - ECPv6.15.20//NONSGML v1.0//EN
CALSCALE:GREGORIAN
METHOD:PUBLISH
X-WR-CALNAME:TDChristian
X-ORIGINAL-URL:https://tdchristian.ca
X-WR-CALDESC:Events for TDChristian
REFRESH-INTERVAL;VALUE=DURATION:PT1H
X-Robots-Tag:noindex
X-PUBLISHED-TTL:PT1H
BEGIN:VTIMEZONE
TZID:America/Toronto
BEGIN:DAYLIGHT
TZOFFSETFROM:-0500
TZOFFSETTO:-0400
TZNAME:EDT
DTSTART:20260308T070000
END:DAYLIGHT
BEGIN:STANDARD
TZOFFSETFROM:-0400
TZOFFSETTO:-0500
TZNAME:EST
DTSTART:20261101T060000
END:STANDARD
BEGIN:DAYLIGHT
TZOFFSETFROM:-0500
TZOFFSETTO:-0400
TZNAME:EDT
DTSTART:20270314T070000
END:DAYLIGHT
BEGIN:STANDARD
TZOFFSETFROM:-0400
TZOFFSETTO:-0500
TZNAME:EST
DTSTART:20271107T060000
END:STANDARD
BEGIN:DAYLIGHT
TZOFFSETFROM:-0500
TZOFFSETTO:-0400
TZNAME:EDT
DTSTART:20280312T070000
END:DAYLIGHT
BEGIN:STANDARD
TZOFFSETFROM:-0400
TZOFFSETTO:-0500
TZNAME:EST
DTSTART:20281105T060000
END:STANDARD
END:VTIMEZONE
BEGIN:VEVENT
DTSTART;TZID=America/Toronto:20270126T083000
DTEND;TZID=America/Toronto:20270126T143000
DTSTAMP:20260423T195759
CREATED:20260423T160823Z
LAST-MODIFIED:20260423T160824Z
UID:10001109-1800952200-1800973800@tdchristian.ca
SUMMARY:Final Summatives Day (Period 3 and 4)
DESCRIPTION:Students will write exams and participate in Final Summative activities for their Period 3 and 4 classes.
URL:https://tdchristian.ca/event/final-summatives-day-period-3-and-4-2/
LOCATION:Ontario
CATEGORIES:General Event
END:VEVENT
BEGIN:VEVENT
DTSTART;TZID=America/Toronto:20270127T083000
DTEND;TZID=America/Toronto:20270127T143000
DTSTAMP:20260423T195759
CREATED:20260423T161202Z
LAST-MODIFIED:20260423T161203Z
UID:10001110-1801038600-1801060200@tdchristian.ca
SUMMARY:Alternative exam day (or PD Day)
DESCRIPTION:In the event that a snow day causes a delay in Final Summatives\, students will write exams and participate in Final Summative activities today.
URL:https://tdchristian.ca/event/alternative-exam-day-or-pd-day/
LOCATION:Ontario
CATEGORIES:PD Day / Project Day
END:VEVENT
BEGIN:VEVENT
DTSTART;TZID=America/Toronto:20270128T000000
DTEND;TZID=America/Toronto:20270201T235959
DTSTAMP:20260423T195759
CREATED:20260423T172003Z
LAST-MODIFIED:20260423T172426Z
UID:10001111-1801094400-1801526399@tdchristian.ca
SUMMARY:PD Days
DESCRIPTION:Professional Development Days. No school. Students will stay at home while teachers prepare for semester 2.
URL:https://tdchristian.ca/event/pd-days/
LOCATION:Ontario
CATEGORIES:PD Day / Project Day
END:VEVENT
BEGIN:VEVENT
DTSTART;TZID=America/Toronto:20270202T000000
DTEND;TZID=America/Toronto:20270202T235959
DTSTAMP:20260423T195759
CREATED:20260423T172643Z
LAST-MODIFIED:20260423T172644Z
UID:10001112-1801526400-1801612799@tdchristian.ca
SUMMARY:First Day of Semester 2
DESCRIPTION:Welcome to Semester 2!
URL:https://tdchristian.ca/event/first-day-of-semester-2-2/
LOCATION:Ontario
CATEGORIES:Calendar Event
END:VEVENT
BEGIN:VEVENT
DTSTART;TZID=America/Toronto:20270210T080000
DTEND;TZID=America/Toronto:20270210T170000
DTSTAMP:20260423T195759
CREATED:20260423T173526Z
LAST-MODIFIED:20260423T173527Z
UID:10001115-1802246400-1802278800@tdchristian.ca
SUMMARY:Semester One Final Reports sent home
DESCRIPTION:Semester 1 Final Learning Reports will be shared in Edsby at 5 pm today\, and will also be sent home in hard copy with students.
URL:https://tdchristian.ca/event/semester-one-final-reports-sent-home/
LOCATION:Ontario
CATEGORIES:General Event
END:VEVENT
BEGIN:VEVENT
DTSTART;TZID=America/Toronto:20270312T000000
DTEND;TZID=America/Toronto:20270319T235959
DTSTAMP:20260423T195759
CREATED:20260417T134823Z
LAST-MODIFIED:20260417T134824Z
UID:10001053-1804809600-1805500799@tdchristian.ca
SUMMARY:March Break
DESCRIPTION:
URL:https://tdchristian.ca/event/march-break-4/
LOCATION:Ontario
CATEGORIES:General Event
END:VEVENT
BEGIN:VEVENT
DTSTART;TZID=America/Toronto:20270623T180000
DTEND;TZID=America/Toronto:20270623T213000
DTSTAMP:20260423T195759
CREATED:20260417T135013Z
LAST-MODIFIED:20260417T135013Z
UID:10001054-1813773600-1813786200@tdchristian.ca
SUMMARY:Graduation
DESCRIPTION:
URL:https://tdchristian.ca/event/graduation-4/
LOCATION:Ontario
CATEGORIES:Parent Event,Student Event
END:VEVENT
END:VCALENDAR