BEGIN:VCALENDAR
VERSION:2.0
PRODID:-//TDChristian - ECPv6.15.20//NONSGML v1.0//EN
CALSCALE:GREGORIAN
METHOD:PUBLISH
X-ORIGINAL-URL:https://tdchristian.ca
X-WR-CALDESC:Events for TDChristian
REFRESH-INTERVAL;VALUE=DURATION:PT1H
X-Robots-Tag:noindex
X-PUBLISHED-TTL:PT1H
BEGIN:VTIMEZONE
TZID:America/Toronto
BEGIN:DAYLIGHT
TZOFFSETFROM:-0500
TZOFFSETTO:-0400
TZNAME:EDT
DTSTART:20250309T070000
END:DAYLIGHT
BEGIN:STANDARD
TZOFFSETFROM:-0400
TZOFFSETTO:-0500
TZNAME:EST
DTSTART:20251102T060000
END:STANDARD
BEGIN:DAYLIGHT
TZOFFSETFROM:-0500
TZOFFSETTO:-0400
TZNAME:EDT
DTSTART:20260308T070000
END:DAYLIGHT
BEGIN:STANDARD
TZOFFSETFROM:-0400
TZOFFSETTO:-0500
TZNAME:EST
DTSTART:20261101T060000
END:STANDARD
BEGIN:DAYLIGHT
TZOFFSETFROM:-0500
TZOFFSETTO:-0400
TZNAME:EDT
DTSTART:20270314T070000
END:DAYLIGHT
BEGIN:STANDARD
TZOFFSETFROM:-0400
TZOFFSETTO:-0500
TZNAME:EST
DTSTART:20271107T060000
END:STANDARD
BEGIN:DAYLIGHT
TZOFFSETFROM:-0500
TZOFFSETTO:-0400
TZNAME:EDT
DTSTART:20280312T070000
END:DAYLIGHT
BEGIN:STANDARD
TZOFFSETFROM:-0400
TZOFFSETTO:-0500
TZNAME:EST
DTSTART:20281105T060000
END:STANDARD
END:VTIMEZONE
BEGIN:VEVENT
DTSTART;VALUE=DATE:20260615
DTEND;VALUE=DATE:20260616
DTSTAMP:20260420T173330
CREATED:20250526T032229Z
LAST-MODIFIED:20250526T032229Z
UID:10000488-1781481600-1781567999@tdchristian.ca
SUMMARY:Study Day
DESCRIPTION:Students are studying at home; there is no school for students today.
URL:https://tdchristian.ca/event/study-day-11/
CATEGORIES:PD Day / Project Day
END:VEVENT
BEGIN:VEVENT
DTSTART;VALUE=DATE:20260616
DTEND;VALUE=DATE:20260617
DTSTAMP:20260420T173330
CREATED:20250526T032406Z
LAST-MODIFIED:20250526T032406Z
UID:10000490-1781568000-1781654399@tdchristian.ca
SUMMARY:Final Summatives Day (Period 1 and 2)
DESCRIPTION:Students will write exams and participate in Final Summative activities for their Period 1 and 2 classes.
URL:https://tdchristian.ca/event/final-summatives-day-period-1-and-2-2/
CATEGORIES:General Event
END:VEVENT
BEGIN:VEVENT
DTSTART;VALUE=DATE:20260617
DTEND;VALUE=DATE:20260618
DTSTAMP:20260420T173330
CREATED:20250526T032307Z
LAST-MODIFIED:20250526T032307Z
UID:10000489-1781654400-1781740799@tdchristian.ca
SUMMARY:Study Day
DESCRIPTION:Students are studying at home; there is no school for students today.
URL:https://tdchristian.ca/event/study-day-12/
CATEGORIES:PD Day / Project Day
END:VEVENT
BEGIN:VEVENT
DTSTART;VALUE=DATE:20260618
DTEND;VALUE=DATE:20260619
DTSTAMP:20260420T173330
CREATED:20250526T032612Z
LAST-MODIFIED:20250526T032612Z
UID:10000491-1781740800-1781827199@tdchristian.ca
SUMMARY:Final Summatives Day (Periods 3 and 4)
DESCRIPTION:Students will write exams and participate in Final Summative activities for their Period 3 and 4 classes.
URL:https://tdchristian.ca/event/final-summatives-day-periods-3-and-4/
CATEGORIES:General Event
END:VEVENT
BEGIN:VEVENT
DTSTART;VALUE=DATE:20260619
DTEND;VALUE=DATE:20260620
DTSTAMP:20260420T173330
CREATED:20250526T033033Z
LAST-MODIFIED:20250526T033033Z
UID:10000492-1781827200-1781913599@tdchristian.ca
SUMMARY:Alternate day for Final Summatives
DESCRIPTION:In the unlikely event that there is a delay in Final Summatives\, students will write exams and participate in Final Summative activities today.
URL:https://tdchristian.ca/event/alternate-day-for-final-summatives-2/
CATEGORIES:PD Day / Project Day
END:VEVENT
BEGIN:VEVENT
DTSTART;VALUE=DATE:20260619
DTEND;VALUE=DATE:20260620
DTSTAMP:20260420T173330
CREATED:20250526T033127Z
LAST-MODIFIED:20250526T033127Z
UID:10000493-1781827200-1781913599@tdchristian.ca
SUMMARY:Prom (not a school event)
DESCRIPTION:
URL:https://tdchristian.ca/event/prom-not-a-school-event-2/
CATEGORIES:Calendar Event
END:VEVENT
BEGIN:VEVENT
DTSTART;TZID=America/Toronto:20260624T190000
DTEND;TZID=America/Toronto:20260624T203000
DTSTAMP:20260420T173330
CREATED:20250526T033418Z
LAST-MODIFIED:20250630T201548Z
UID:10000494-1782327600-1782333000@tdchristian.ca
SUMMARY:Graduation
DESCRIPTION:Join us as we celebrate the Class of 2026! Everyone is welcome! \nGraduates and parents/homestays/guardians will receive an Edsby message with details on time\, dress\, etc. closer to the event.
URL:https://tdchristian.ca/event/graduation-3/
LOCATION:Faith Gospel Tabernacle\, 140 Salvation Road\, Brampton\, Ontario\, L7A 0W7\, Canada
CATEGORIES:General Event
END:VEVENT
BEGIN:VEVENT
DTSTART;TZID=America/Toronto:20260703T080000
DTEND;TZID=America/Toronto:20260703T170000
DTSTAMP:20260420T173330
CREATED:20250526T033521Z
LAST-MODIFIED:20250526T033521Z
UID:10000495-1783065600-1783098000@tdchristian.ca
SUMMARY:Final Learning Reports for Semester 2
DESCRIPTION:Final Learning Reports for Semester 2 will be shared in Edsby and mailed in hardcopy to families.
URL:https://tdchristian.ca/event/final-learning-reports-for-semester-2/
END:VEVENT
BEGIN:VEVENT
DTSTART;TZID=America/Toronto:20260902T090000
DTEND;TZID=America/Toronto:20260902T120000
DTSTAMP:20260420T173330
CREATED:20260420T150551Z
LAST-MODIFIED:20260420T150851Z
UID:10001056-1788339600-1788350400@tdchristian.ca
SUMMARY:New Gr. 10-12 Student Orientation
DESCRIPTION:Students in grades 10 to 12 who are new to TDChristian are invited to join us and get a glimpse into life as a student here at TDChristian.
URL:https://tdchristian.ca/event/new-gr-10-12-student-orientation/
END:VEVENT
BEGIN:VEVENT
DTSTART;TZID=America/Toronto:20260903T190000
DTEND;TZID=America/Toronto:20260903T203000
DTSTAMP:20260420T173330
CREATED:20260420T151337Z
LAST-MODIFIED:20260420T151337Z
UID:10001057-1788462000-1788467400@tdchristian.ca
SUMMARY:Back in the Groove
DESCRIPTION:Welcome back! Students from Grade 9 to 12 are invited to get come ready for a great year! \n\n\n\nStudents and their families are invited to the opening assembly at 7 p.m. It will be an exciting time to come together\, see the building\, and meet each other. After the assembly\, information will be shared about lockers\, locks\, student photo day\, sports (including fall tryouts)\, drama\, music\, classes\, MacBooks\, and optional insurance. The 2025-26 yearbooks will be available after the assembly. Students who do not attend Back-in-the-Groove will receive their packages the first day they arrive at school.
URL:https://tdchristian.ca/event/back-in-the-groove-4/
END:VEVENT
BEGIN:VEVENT
DTSTART;TZID=America/Toronto:20260908T000000
DTEND;TZID=America/Toronto:20260908T235959
DTSTAMP:20260420T173330
CREATED:20260417T133929Z
LAST-MODIFIED:20260417T133938Z
UID:10001051-1788825600-1788911999@tdchristian.ca
SUMMARY:First Day of School
DESCRIPTION:
URL:https://tdchristian.ca/event/first-day-of-school-2/
END:VEVENT
BEGIN:VEVENT
DTSTART;TZID=America/Toronto:20260908T000000
DTEND;TZID=America/Toronto:20260911T235959
DTSTAMP:20260420T173330
CREATED:20260417T135545Z
LAST-MODIFIED:20260417T135546Z
UID:10001055-1788825600-1789171199@tdchristian.ca
SUMMARY:Grade 9 Orientation
DESCRIPTION:All Grade 9 students will participate in a variety of games\, service\, and opportunities to learn about school at TDChristian.
URL:https://tdchristian.ca/event/grade-9-orientation/
CATEGORIES:Student Event
END:VEVENT
BEGIN:VEVENT
DTSTART;TZID=America/Toronto:20260915T090000
DTEND;TZID=America/Toronto:20260915T113000
DTSTAMP:20260420T173330
CREATED:20260420T155758Z
LAST-MODIFIED:20260420T160024Z
UID:10001058-1789462800-1789471800@tdchristian.ca
SUMMARY:Student Photo Day
DESCRIPTION:ALL students have their photos taken for their student ID card and the yearbook. Optionally\, you may purchase photo prints. Drop by the main office for more information.
URL:https://tdchristian.ca/event/student-photo-day-3/
CATEGORIES:Student Event
END:VEVENT
BEGIN:VEVENT
DTSTART;TZID=America/Toronto:20261221T000000
DTEND;TZID=America/Toronto:20270101T235959
DTSTAMP:20260420T173330
CREATED:20260417T134605Z
LAST-MODIFIED:20260417T134607Z
UID:10001052-1797811200-1798847999@tdchristian.ca
SUMMARY:Christmas Break
DESCRIPTION:
URL:https://tdchristian.ca/event/christmas-break-4/
CATEGORIES:General Event
END:VEVENT
BEGIN:VEVENT
DTSTART;TZID=America/Toronto:20270312T000000
DTEND;TZID=America/Toronto:20270319T235959
DTSTAMP:20260420T173330
CREATED:20260417T134823Z
LAST-MODIFIED:20260417T134824Z
UID:10001053-1804809600-1805500799@tdchristian.ca
SUMMARY:March Break
DESCRIPTION:
URL:https://tdchristian.ca/event/march-break-4/
CATEGORIES:General Event
END:VEVENT
BEGIN:VEVENT
DTSTART;TZID=America/Toronto:20270623T180000
DTEND;TZID=America/Toronto:20270623T213000
DTSTAMP:20260420T173330
CREATED:20260417T135013Z
LAST-MODIFIED:20260417T135013Z
UID:10001054-1813773600-1813786200@tdchristian.ca
SUMMARY:Graduation
DESCRIPTION:
URL:https://tdchristian.ca/event/graduation-4/
CATEGORIES:Parent Event,Student Event
END:VEVENT
END:VCALENDAR