BEGIN:VCALENDAR
VERSION:2.0
PRODID:-//TDChristian - ECPv6.15.20//NONSGML v1.0//EN
CALSCALE:GREGORIAN
METHOD:PUBLISH
X-WR-CALNAME:TDChristian
X-ORIGINAL-URL:https://tdchristian.ca
X-WR-CALDESC:Events for TDChristian
REFRESH-INTERVAL;VALUE=DURATION:PT1H
X-Robots-Tag:noindex
X-PUBLISHED-TTL:PT1H
BEGIN:VTIMEZONE
TZID:America/Toronto
BEGIN:DAYLIGHT
TZOFFSETFROM:-0500
TZOFFSETTO:-0400
TZNAME:EDT
DTSTART:20260308T070000
END:DAYLIGHT
BEGIN:STANDARD
TZOFFSETFROM:-0400
TZOFFSETTO:-0500
TZNAME:EST
DTSTART:20261101T060000
END:STANDARD
BEGIN:DAYLIGHT
TZOFFSETFROM:-0500
TZOFFSETTO:-0400
TZNAME:EDT
DTSTART:20270314T070000
END:DAYLIGHT
BEGIN:STANDARD
TZOFFSETFROM:-0400
TZOFFSETTO:-0500
TZNAME:EST
DTSTART:20271107T060000
END:STANDARD
BEGIN:DAYLIGHT
TZOFFSETFROM:-0500
TZOFFSETTO:-0400
TZNAME:EDT
DTSTART:20280312T070000
END:DAYLIGHT
BEGIN:STANDARD
TZOFFSETFROM:-0400
TZOFFSETTO:-0500
TZNAME:EST
DTSTART:20281105T060000
END:STANDARD
END:VTIMEZONE
BEGIN:VEVENT
DTSTART;TZID=America/Toronto:20270216T000000
DTEND;TZID=America/Toronto:20270223T235959
DTSTAMP:20260424T123255
CREATED:20260424T144631Z
LAST-MODIFIED:20260424T144632Z
UID:10001135-1802736000-1803427199@tdchristian.ca
SUMMARY:Grade 10 French Exchange in Quebec
DESCRIPTION:
URL:https://tdchristian.ca/event/grade-10-french-exchange-in-quebec/
CATEGORIES:School Trip
END:VEVENT
BEGIN:VEVENT
DTSTART;TZID=America/Toronto:20270223T090000
DTEND;TZID=America/Toronto:20270223T233000
DTSTAMP:20260424T123255
CREATED:20260424T145016Z
LAST-MODIFIED:20260424T145017Z
UID:10001136-1803373200-1803425400@tdchristian.ca
SUMMARY:Course Selection Discussions Grade 9\, 10\, and 11 Round Tables
DESCRIPTION:The Guidance Team will lead sessions with students in Grade 9\, 10\, and 11 to introduce students to the course selection process\, and help them make their decisions regarding courses for the following year.
URL:https://tdchristian.ca/event/course-selection-discussions-grade-9-10-and-11-round-tables-2/
CATEGORIES:Student Event
END:VEVENT
BEGIN:VEVENT
DTSTART;TZID=America/Toronto:20270224T090000
DTEND;TZID=America/Toronto:20270224T093000
DTSTAMP:20260424T123255
CREATED:20260424T145335Z
LAST-MODIFIED:20260424T145336Z
UID:10001138-1803459600-1803461400@tdchristian.ca
SUMMARY:Compass Survey
DESCRIPTION:
URL:https://tdchristian.ca/event/compass-survey-2/
CATEGORIES:Student Event
END:VEVENT
BEGIN:VEVENT
DTSTART;TZID=America/Toronto:20270224T090000
DTEND;TZID=America/Toronto:20270224T103000
DTSTAMP:20260424T123255
CREATED:20260424T145116Z
LAST-MODIFIED:20260424T145218Z
UID:10001137-1803459600-1803465000@tdchristian.ca
SUMMARY:Pascal\, Cayley & Fermat Math Contests
DESCRIPTION:Watch for information on how to register for these contests in the morning announcements.
URL:https://tdchristian.ca/event/pascal-cayley-fermat-math-contests/
CATEGORIES:Student Event
END:VEVENT
BEGIN:VEVENT
DTSTART;TZID=America/Toronto:20270225T190000
DTEND;TZID=America/Toronto:20270225T203000
DTSTAMP:20260424T123255
CREATED:20260424T145513Z
LAST-MODIFIED:20260424T145513Z
UID:10001139-1803582000-1803587400@tdchristian.ca
SUMMARY:Course Selection Evening for Parents
DESCRIPTION:Parents\, guardians\, and homestay parents of current Grade 10 students are invited to the school to learn about the process of planning for the future and selecting courses for Grade 11.
URL:https://tdchristian.ca/event/course-selection-evening-for-parents/
CATEGORIES:Parent Event
END:VEVENT
BEGIN:VEVENT
DTSTART;TZID=America/Toronto:20270305T000000
DTEND;TZID=America/Toronto:20270305T235959
DTSTAMP:20260424T123255
CREATED:20260424T145713Z
LAST-MODIFIED:20260424T145714Z
UID:10001140-1804204800-1804291199@tdchristian.ca
SUMMARY:Intramural Hockey Tournament
DESCRIPTION:
URL:https://tdchristian.ca/event/intramural-hockey-tournament-4/
CATEGORIES:General Event
END:VEVENT
BEGIN:VEVENT
DTSTART;TZID=America/Toronto:20270305T000000
DTEND;TZID=America/Toronto:20270305T235959
DTSTAMP:20260424T123255
CREATED:20260424T145812Z
LAST-MODIFIED:20260424T145813Z
UID:10001141-1804204800-1804291199@tdchristian.ca
SUMMARY:Project Day (Period 3)
DESCRIPTION:Students will be working on a project for period 3 at home today. Buses will not run on this day.
URL:https://tdchristian.ca/event/project-day-period-3-8/
CATEGORIES:PD Day / Project Day
END:VEVENT
BEGIN:VEVENT
DTSTART;TZID=America/Toronto:20270309T170000
DTEND;TZID=America/Toronto:20270309T180000
DTSTAMP:20260424T123255
CREATED:20260424T150556Z
LAST-MODIFIED:20260424T150557Z
UID:10001142-1804611600-1804615200@tdchristian.ca
SUMMARY:Learning Report #1 Shared in Edsby
DESCRIPTION:The first Learning Report of semester one\, which includes an assessment of students’ Learning Skills (Responsibility\, Organization\, Collaboration\, Independent Work\, Self-Regulation\, and Initiative)\, will be shared in Edsby at 5:00pm today.
URL:https://tdchristian.ca/event/learning-report-1-shared-in-edsby-2/
CATEGORIES:Learning Report,Parent Event
END:VEVENT
BEGIN:VEVENT
DTSTART;TZID=America/Toronto:20270312T000000
DTEND;TZID=America/Toronto:20270319T235959
DTSTAMP:20260424T123255
CREATED:20260417T134823Z
LAST-MODIFIED:20260417T134824Z
UID:10001053-1804809600-1805500799@tdchristian.ca
SUMMARY:March Break
DESCRIPTION:
URL:https://tdchristian.ca/event/march-break-4/
CATEGORIES:General Event
END:VEVENT
BEGIN:VEVENT
DTSTART;TZID=America/Toronto:20270323T100000
DTEND;TZID=America/Toronto:20270323T113000
DTSTAMP:20260424T123255
CREATED:20260424T150855Z
LAST-MODIFIED:20260424T150856Z
UID:10001143-1805796000-1805801400@tdchristian.ca
SUMMARY:Practice OSSLT for Grade 10 Students
DESCRIPTION:All Grade 10 students will write a practice literacy test today. This is not the real test; this is in preparation for the real test.
URL:https://tdchristian.ca/event/practice-osslt-for-grade-10-students/
CATEGORIES:Student Event
END:VEVENT
BEGIN:VEVENT
DTSTART;TZID=America/Toronto:20270326T000000
DTEND;TZID=America/Toronto:20270326T235959
DTSTAMP:20260424T123255
CREATED:20260424T151106Z
LAST-MODIFIED:20260424T151107Z
UID:10001144-1806019200-1806105599@tdchristian.ca
SUMMARY:Good Friday
DESCRIPTION:No school
URL:https://tdchristian.ca/event/good-friday-4/
CATEGORIES:Holiday
END:VEVENT
BEGIN:VEVENT
DTSTART;TZID=America/Toronto:20270328T000000
DTEND;TZID=America/Toronto:20270328T235959
DTSTAMP:20260424T123255
CREATED:20260424T151238Z
LAST-MODIFIED:20260424T151239Z
UID:10001146-1806192000-1806278399@tdchristian.ca
SUMMARY:Easter Sunday
DESCRIPTION:
URL:https://tdchristian.ca/event/easter-sunday/
CATEGORIES:Holiday
END:VEVENT
BEGIN:VEVENT
DTSTART;TZID=America/Toronto:20270329T000000
DTEND;TZID=America/Toronto:20270329T235959
DTSTAMP:20260424T123255
CREATED:20260424T151147Z
LAST-MODIFIED:20260424T151148Z
UID:10001145-1806278400-1806364799@tdchristian.ca
SUMMARY:Easter Monday
DESCRIPTION:No School
URL:https://tdchristian.ca/event/easter-monday-4/
CATEGORIES:Holiday
END:VEVENT
BEGIN:VEVENT
DTSTART;TZID=America/Toronto:20270331T090000
DTEND;TZID=America/Toronto:20270402T023000
DTSTAMP:20260424T123255
CREATED:20260424T152410Z
LAST-MODIFIED:20260424T153236Z
UID:10001147-1806483600-1806633000@tdchristian.ca
SUMMARY:Grade 11 Overnight Service Trip to Hamilton
DESCRIPTION:The Grade 11 students who are enrolled in the English & Perspectives courses in Semester Two will be participating in a three-day overnight service trip as a part of their English & Perspectives classes.
URL:https://tdchristian.ca/event/grade-11-overnight-service-trip-to-hamilton-5/
CATEGORIES:Student Event
END:VEVENT
BEGIN:VEVENT
DTSTART;TZID=America/Toronto:20270406T090000
DTEND;TZID=America/Toronto:20270406T120000
DTSTAMP:20260424T123255
CREATED:20260424T153430Z
LAST-MODIFIED:20260424T153801Z
UID:10001148-1807002000-1807012800@tdchristian.ca
SUMMARY:Euclid Math Contest by the University of Waterloo
DESCRIPTION:Watch the morning announcements to learn how to register.
URL:https://tdchristian.ca/event/euclid-math-contest-by-the-university-of-waterloo-2/
CATEGORIES:Student Event
END:VEVENT
BEGIN:VEVENT
DTSTART;TZID=America/Toronto:20270407T090000
DTEND;TZID=America/Toronto:20270407T130000
DTSTAMP:20260424T123255
CREATED:20260424T154002Z
LAST-MODIFIED:20260424T154003Z
UID:10001149-1807088400-1807102800@tdchristian.ca
SUMMARY:Career Fair
DESCRIPTION:Students in grades 9-11 will have the opportunity to meet individuals from all types of careers\, ask them questions and exploring the possibilities.
URL:https://tdchristian.ca/event/career-fair-2/
CATEGORIES:General Event
END:VEVENT
BEGIN:VEVENT
DTSTART;TZID=America/Toronto:20270413T090000
DTEND;TZID=America/Toronto:20270413T120000
DTSTAMP:20260424T123255
CREATED:20260424T160307Z
LAST-MODIFIED:20260424T160308Z
UID:10001150-1807606800-1807617600@tdchristian.ca
SUMMARY:OSSLT (Ontario Secondary School Literacy Test)
DESCRIPTION:All Grade 10s will write the OSSLT on this date.
URL:https://tdchristian.ca/event/osslt-ontario-secondary-school-literacy-test/
CATEGORIES:Student Event
END:VEVENT
BEGIN:VEVENT
DTSTART;TZID=America/Toronto:20270415T150000
DTEND;TZID=America/Toronto:20270415T200000
DTSTAMP:20260424T123255
CREATED:20260424T160448Z
LAST-MODIFIED:20260424T160449Z
UID:10001151-1807801200-1807819200@tdchristian.ca
SUMMARY:Learning Dialogues
DESCRIPTION:Parents and students are encouraged to meet with teachers for Learning Dialogues. Information regarding how to sign up for Learning Dialogues will be shared with parents. All Learning Dialogues will take place in person at school.
URL:https://tdchristian.ca/event/learning-dialogues-9/
CATEGORIES:Parent Event
END:VEVENT
BEGIN:VEVENT
DTSTART;TZID=America/Toronto:20270416T000000
DTEND;TZID=America/Toronto:20270416T235959
DTSTAMP:20260424T123255
CREATED:20260424T160615Z
LAST-MODIFIED:20260424T160616Z
UID:10001152-1807833600-1807919999@tdchristian.ca
SUMMARY:Project Day (Period 2)
DESCRIPTION:Students will be working on a project for period 2 at home today.
URL:https://tdchristian.ca/event/project-day-period-2-6/
CATEGORIES:PD Day / Project Day
END:VEVENT
BEGIN:VEVENT
DTSTART;TZID=America/Toronto:20270416T000000
DTEND;TZID=America/Toronto:20270416T235959
DTSTAMP:20260424T123255
CREATED:20260424T160734Z
LAST-MODIFIED:20260424T160735Z
UID:10001153-1807833600-1807919999@tdchristian.ca
SUMMARY:Last day of half term courses
DESCRIPTION:
URL:https://tdchristian.ca/event/last-day-of-half-term-courses/
END:VEVENT
BEGIN:VEVENT
DTSTART;TZID=America/Toronto:20270420T170000
DTEND;TZID=America/Toronto:20270420T180000
DTSTAMP:20260424T123255
CREATED:20260424T160908Z
LAST-MODIFIED:20260424T160909Z
UID:10001154-1808240400-1808244000@tdchristian.ca
SUMMARY:Midterm Learning Reports released in Edsby
DESCRIPTION:
URL:https://tdchristian.ca/event/midterm-learning-reports-released-in-edsby/
CATEGORIES:Learning Report,Parent Event
END:VEVENT
BEGIN:VEVENT
DTSTART;TZID=America/Toronto:20270421T110000
DTEND;TZID=America/Toronto:20270421T120000
DTSTAMP:20260424T123255
CREATED:20260424T161051Z
LAST-MODIFIED:20260424T161051Z
UID:10001155-1808305200-1808308800@tdchristian.ca
SUMMARY:Graduation Lunch
DESCRIPTION:Grade 12 students will enjoy a lunch in the Presentation Centre in their honour. Details for the Valedictorian and Board Leadership Awards will also be shared.
URL:https://tdchristian.ca/event/graduation-lunch-2/
CATEGORIES:Student Event
END:VEVENT
BEGIN:VEVENT
DTSTART;TZID=America/Toronto:20270422T190000
DTEND;TZID=America/Toronto:20270422T203000
DTSTAMP:20260424T123255
CREATED:20260424T161355Z
LAST-MODIFIED:20260424T161356Z
UID:10001156-1808420400-1808425800@tdchristian.ca
SUMMARY:Spring Membership Meeting
DESCRIPTION:TDChristian’s Spring Membership Meeting will be held from 7:00–9:00 p.m. in the Presentations Centre and on Zoom. You are invited to attend the meeting\, where the Board will present the budget for the 2027–28 school year\, students will share some of their learning from the semester\, and attendees will have the opportunity to learn more about and provide feedback on the Strategic Plan for TDChristian. \n\n\n\nAttendees will receive 2.5 volunteer hours per family for attending the meeting in person at TDChristian\, or one volunteer hour per family for attending via Zoom.
URL:https://tdchristian.ca/event/spring-membership-meeting-4/
CATEGORIES:General Event
END:VEVENT
BEGIN:VEVENT
DTSTART;TZID=America/Toronto:20270623T180000
DTEND;TZID=America/Toronto:20270623T213000
DTSTAMP:20260424T123255
CREATED:20260417T135013Z
LAST-MODIFIED:20260417T135013Z
UID:10001054-1813773600-1813786200@tdchristian.ca
SUMMARY:Graduation
DESCRIPTION:
URL:https://tdchristian.ca/event/graduation-4/
CATEGORIES:Parent Event,Student Event
END:VEVENT
END:VCALENDAR