BEGIN:VCALENDAR
VERSION:2.0
PRODID:-//TDChristian - ECPv6.15.20//NONSGML v1.0//EN
CALSCALE:GREGORIAN
METHOD:PUBLISH
X-WR-CALNAME:TDChristian
X-ORIGINAL-URL:https://tdchristian.ca
X-WR-CALDESC:Events for TDChristian
REFRESH-INTERVAL;VALUE=DURATION:PT1H
X-Robots-Tag:noindex
X-PUBLISHED-TTL:PT1H
BEGIN:VTIMEZONE
TZID:America/Toronto
BEGIN:DAYLIGHT
TZOFFSETFROM:-0500
TZOFFSETTO:-0400
TZNAME:EDT
DTSTART:20260308T070000
END:DAYLIGHT
BEGIN:STANDARD
TZOFFSETFROM:-0400
TZOFFSETTO:-0500
TZNAME:EST
DTSTART:20261101T060000
END:STANDARD
BEGIN:DAYLIGHT
TZOFFSETFROM:-0500
TZOFFSETTO:-0400
TZNAME:EDT
DTSTART:20270314T070000
END:DAYLIGHT
BEGIN:STANDARD
TZOFFSETFROM:-0400
TZOFFSETTO:-0500
TZNAME:EST
DTSTART:20271107T060000
END:STANDARD
BEGIN:DAYLIGHT
TZOFFSETFROM:-0500
TZOFFSETTO:-0400
TZNAME:EDT
DTSTART:20280312T070000
END:DAYLIGHT
BEGIN:STANDARD
TZOFFSETFROM:-0400
TZOFFSETTO:-0500
TZNAME:EST
DTSTART:20281105T060000
END:STANDARD
END:VTIMEZONE
BEGIN:VEVENT
DTSTART;TZID=America/Toronto:20270420T170000
DTEND;TZID=America/Toronto:20270420T180000
DTSTAMP:20260424T183555
CREATED:20260424T160908Z
LAST-MODIFIED:20260424T160909Z
UID:10001154-1808240400-1808244000@tdchristian.ca
SUMMARY:Midterm Learning Reports released in Edsby
DESCRIPTION:
URL:https://tdchristian.ca/event/midterm-learning-reports-released-in-edsby/
CATEGORIES:Learning Report,Parent Event
END:VEVENT
BEGIN:VEVENT
DTSTART;TZID=America/Toronto:20270421T110000
DTEND;TZID=America/Toronto:20270421T120000
DTSTAMP:20260424T183555
CREATED:20260424T161051Z
LAST-MODIFIED:20260424T161051Z
UID:10001155-1808305200-1808308800@tdchristian.ca
SUMMARY:Graduation Lunch
DESCRIPTION:Grade 12 students will enjoy a lunch in the Presentation Centre in their honour. Details for the Valedictorian and Board Leadership Awards will also be shared.
URL:https://tdchristian.ca/event/graduation-lunch-2/
CATEGORIES:Student Event
END:VEVENT
BEGIN:VEVENT
DTSTART;TZID=America/Toronto:20270422T190000
DTEND;TZID=America/Toronto:20270422T203000
DTSTAMP:20260424T183555
CREATED:20260424T161355Z
LAST-MODIFIED:20260424T161356Z
UID:10001156-1808420400-1808425800@tdchristian.ca
SUMMARY:Spring Membership Meeting
DESCRIPTION:TDChristian’s Spring Membership Meeting will be held from 7:00–9:00 p.m. in the Presentations Centre and on Zoom. You are invited to attend the meeting\, where the Board will present the budget for the 2027–28 school year\, students will share some of their learning from the semester\, and attendees will have the opportunity to learn more about and provide feedback on the Strategic Plan for TDChristian. \n\n\n\nAttendees will receive 2.5 volunteer hours per family for attending the meeting in person at TDChristian\, or one volunteer hour per family for attending via Zoom.
URL:https://tdchristian.ca/event/spring-membership-meeting-4/
CATEGORIES:General Event
END:VEVENT
BEGIN:VEVENT
DTSTART;TZID=America/Toronto:20270430T090000
DTEND;TZID=America/Toronto:20270430T130000
DTSTAMP:20260424T183555
CREATED:20260424T171617Z
LAST-MODIFIED:20260424T171618Z
UID:10001157-1809075600-1809090000@tdchristian.ca
SUMMARY:Grandparents Day
DESCRIPTION:Friday\, May 1 is Grandparents’ Day at TDChristian and we can’t wait to host our favourite VIPs: YOU! \n\n\n\nOn Grandparent’s Day\, you will catch a glimpse of what high school at TDChristian looks like. As our guests\, you will have time to socialize with other grandparents\, spend time with your grandchildren during classroom visits\, participate in an inspiring assembly celebrating the faith and learning of our students and receive a free BBQ lunch that you can share with your grandchildren!
URL:https://tdchristian.ca/event/grandparents-day-4/
CATEGORIES:General Event
END:VEVENT
BEGIN:VEVENT
DTSTART;TZID=America/Toronto:20270505T120000
DTEND;TZID=America/Toronto:20270505T143000
DTSTAMP:20260424T183555
CREATED:20260424T180317Z
LAST-MODIFIED:20260424T180317Z
UID:10001160-1809518400-1809527400@tdchristian.ca
SUMMARY:Culture Day
DESCRIPTION:
URL:https://tdchristian.ca/event/culture-day-4/
CATEGORIES:Student Event
END:VEVENT
BEGIN:VEVENT
DTSTART;TZID=America/Toronto:20270623T180000
DTEND;TZID=America/Toronto:20270623T213000
DTSTAMP:20260424T183555
CREATED:20260417T135013Z
LAST-MODIFIED:20260417T135013Z
UID:10001054-1813773600-1813786200@tdchristian.ca
SUMMARY:Graduation
DESCRIPTION:
URL:https://tdchristian.ca/event/graduation-4/
CATEGORIES:Parent Event,Student Event
END:VEVENT
END:VCALENDAR