BEGIN:VCALENDAR
VERSION:2.0
PRODID:-//TDChristian - ECPv6.15.20//NONSGML v1.0//EN
CALSCALE:GREGORIAN
METHOD:PUBLISH
X-WR-CALNAME:TDChristian
X-ORIGINAL-URL:https://tdchristian.ca
X-WR-CALDESC:Events for TDChristian
REFRESH-INTERVAL;VALUE=DURATION:PT1H
X-Robots-Tag:noindex
X-PUBLISHED-TTL:PT1H
BEGIN:VTIMEZONE
TZID:America/Toronto
BEGIN:DAYLIGHT
TZOFFSETFROM:-0500
TZOFFSETTO:-0400
TZNAME:EDT
DTSTART:20250309T070000
END:DAYLIGHT
BEGIN:STANDARD
TZOFFSETFROM:-0400
TZOFFSETTO:-0500
TZNAME:EST
DTSTART:20251102T060000
END:STANDARD
BEGIN:DAYLIGHT
TZOFFSETFROM:-0500
TZOFFSETTO:-0400
TZNAME:EDT
DTSTART:20260308T070000
END:DAYLIGHT
BEGIN:STANDARD
TZOFFSETFROM:-0400
TZOFFSETTO:-0500
TZNAME:EST
DTSTART:20261101T060000
END:STANDARD
BEGIN:DAYLIGHT
TZOFFSETFROM:-0500
TZOFFSETTO:-0400
TZNAME:EDT
DTSTART:20270314T070000
END:DAYLIGHT
BEGIN:STANDARD
TZOFFSETFROM:-0400
TZOFFSETTO:-0500
TZNAME:EST
DTSTART:20271107T060000
END:STANDARD
END:VTIMEZONE
BEGIN:VEVENT
DTSTART;TZID=America/Toronto:20260925T080000
DTEND;TZID=America/Toronto:20260928T140000
DTSTAMP:20260423T125715
CREATED:20260421T152839Z
LAST-MODIFIED:20260421T152909Z
UID:10001061-1790323200-1790604000@tdchristian.ca
SUMMARY:Algonquin Trip
DESCRIPTION:
URL:https://tdchristian.ca/event/algonquin-trip/
CATEGORIES:Student Event
END:VEVENT
BEGIN:VEVENT
DTSTART;TZID=America/Toronto:20260930T000000
DTEND;TZID=America/Toronto:20260930T235959
DTSTAMP:20260423T125715
CREATED:20260422T185742Z
LAST-MODIFIED:20260422T185743Z
UID:10001095-1790726400-1790812799@tdchristian.ca
SUMMARY:Elementary Boys Volleyball Tournament
DESCRIPTION:
URL:https://tdchristian.ca/event/elementary-boys-volleyball-tournament-3/
CATEGORIES:General Event
END:VEVENT
BEGIN:VEVENT
DTSTART;TZID=America/Toronto:20260930T083000
DTEND;TZID=America/Toronto:20261001T180000
DTSTAMP:20260423T125715
CREATED:20260421T153403Z
LAST-MODIFIED:20260421T153404Z
UID:10001062-1790757000-1790877600@tdchristian.ca
SUMMARY:Grade 10 Overnight Beacon Trip
DESCRIPTION:
URL:https://tdchristian.ca/event/grade-10-overnight-beacon-trip-2/
CATEGORIES:Student Event
END:VEVENT
BEGIN:VEVENT
DTSTART;TZID=America/Toronto:20261001T190000
DTEND;TZID=America/Toronto:20261001T200000
DTSTAMP:20260423T125715
CREATED:20260421T153624Z
LAST-MODIFIED:20260421T153625Z
UID:10001063-1790881200-1790884800@tdchristian.ca
SUMMARY:Introduction to Edsby (on Zoom)
DESCRIPTION:Families new to Edsby (or still feeling new to Edsby!) are invited to this event to learn how to find report cards\, schedule absences\, message a teacher\, and more! To get the Zoom link\, please contact Marg in the main office. laswick@tdchristian.ca
URL:https://tdchristian.ca/event/introduction-to-edsby-on-zoom/
CATEGORIES:Parent Event
END:VEVENT
BEGIN:VEVENT
DTSTART;TZID=America/Toronto:20261002T000000
DTEND;TZID=America/Toronto:20261002T235959
DTSTAMP:20260423T125715
CREATED:20260421T155249Z
LAST-MODIFIED:20260421T155632Z
UID:10001064-1790899200-1790985599@tdchristian.ca
SUMMARY:Project Day (Period 3)
DESCRIPTION:Students will be at home today\, working on a project for their period 3 class. Busses will not run.
URL:https://tdchristian.ca/event/project-day-period-3-7/
CATEGORIES:PD Day / Project Day
END:VEVENT
BEGIN:VEVENT
DTSTART;TZID=America/Toronto:20261006T170000
DTEND;TZID=America/Toronto:20261006T180000
DTSTAMP:20260423T125715
CREATED:20260421T160337Z
LAST-MODIFIED:20260421T160338Z
UID:10001065-1791306000-1791309600@tdchristian.ca
SUMMARY:1st Learning Report (shared in Edsby)
DESCRIPTION:The first Learning Report of semester one\, which includes an assessment of students’ Learning Skills (Responsibility\, Organization\, Collaboration\, Independent Work\, Self-Regulation\, and Initiative)\, will be shared in Edsby at 5:00 pm today.
URL:https://tdchristian.ca/event/1st-learning-report-shared-in-edsby/
CATEGORIES:Learning Report
END:VEVENT
BEGIN:VEVENT
DTSTART;TZID=America/Toronto:20261008T190000
DTEND;TZID=America/Toronto:20261008T203000
DTSTAMP:20260423T125715
CREATED:20260421T160741Z
LAST-MODIFIED:20260421T160928Z
UID:10001067-1791486000-1791491400@tdchristian.ca
SUMMARY:New Members Meeting
DESCRIPTION:The Board of TDChristian invites you to consider taking the next step in becoming a member of TDChristian High School by attending the NEW MEMBERS MEETING. Membership is a great next step for you if you have a passion for TDChristian and Christian education. As a member\, you will be invited to share ideas\, participate in vital discussions guiding the school\, vote on key issues\, and help to make financial decisions. \n\n\n\nRegister to attend the NEW MEMBERS MEETING by sending an email to marg@tdchristian.ca
URL:https://tdchristian.ca/event/new-members-meeting-4/
CATEGORIES:Parent Event
END:VEVENT
BEGIN:VEVENT
DTSTART;TZID=America/Toronto:20261009T090000
DTEND;TZID=America/Toronto:20261009T140000
DTSTAMP:20260423T125715
CREATED:20260421T161453Z
LAST-MODIFIED:20260421T161454Z
UID:10001068-1791536400-1791554400@tdchristian.ca
SUMMARY:Crawford Lake Geography Trip (Gr. 9)
DESCRIPTION:Students in Grade 9 Geography will be visiting Crawford Lake from 9 am to 2 pm.
URL:https://tdchristian.ca/event/crawford-lake-geography-trip-gr-9/
END:VEVENT
BEGIN:VEVENT
DTSTART;TZID=America/Toronto:20261012T000000
DTEND;TZID=America/Toronto:20261012T235959
DTSTAMP:20260423T125715
CREATED:20260421T182158Z
LAST-MODIFIED:20260421T182159Z
UID:10001069-1791763200-1791849599@tdchristian.ca
SUMMARY:Thanksgiving
DESCRIPTION:No school
URL:https://tdchristian.ca/event/thanksgiving/
CATEGORIES:Holiday
END:VEVENT
BEGIN:VEVENT
DTSTART;TZID=America/Toronto:20261014T000000
DTEND;TZID=America/Toronto:20261016T235959
DTSTAMP:20260423T125715
CREATED:20260421T182640Z
LAST-MODIFIED:20260421T182641Z
UID:10001071-1791936000-1792195199@tdchristian.ca
SUMMARY:Mentorship
DESCRIPTION:Grade 11 who are not taking English & Perspectives classes this semester will be participating in three days of mentorship in a career field which interests them.
URL:https://tdchristian.ca/event/mentorship/
CATEGORIES:Student Event
END:VEVENT
BEGIN:VEVENT
DTSTART;TZID=America/Toronto:20261014T090000
DTEND;TZID=America/Toronto:20261016T143000
DTSTAMP:20260423T125715
CREATED:20260421T182441Z
LAST-MODIFIED:20260421T182520Z
UID:10001070-1791968400-1792161000@tdchristian.ca
SUMMARY:Gr. 11 Service Trip to Hamilton (Overnight)
DESCRIPTION:The Grade 11 students who are enrolled in the English & Perspectives courses in Semester One will be participating in a three-day overnight service trip as a part of their English & Perspectives classes.
URL:https://tdchristian.ca/event/gr-11-service-trip-to-hamilton-overnight/
CATEGORIES:Student Event
END:VEVENT
BEGIN:VEVENT
DTSTART;TZID=America/Toronto:20261015T183000
DTEND;TZID=America/Toronto:20261015T200000
DTSTAMP:20260423T125715
CREATED:20260421T183003Z
LAST-MODIFIED:20260421T183005Z
UID:10001072-1792089000-1792094400@tdchristian.ca
SUMMARY:Open House
DESCRIPTION:See Why You Belong at TDChristian. What do you want when choosing a high school for your child? ​​You want a school where each student is known and valued. You want a friendly\, supportive atmosphere. You want caring teachers who engage students in dynamic learning. You want a school where serving God and one’s neighbours is at the core of our existence.
URL:https://tdchristian.ca/event/open-house-3/
CATEGORIES:General Event
END:VEVENT
BEGIN:VEVENT
DTSTART;TZID=America/Toronto:20261020T090000
DTEND;TZID=America/Toronto:20261020T120000
DTSTAMP:20260423T125715
CREATED:20260422T150729Z
LAST-MODIFIED:20260422T150730Z
UID:10001073-1792486800-1792497600@tdchristian.ca
SUMMARY:Canadian Christian Universities Tour
DESCRIPTION:Christian universities from across Canada will visit our school.
URL:https://tdchristian.ca/event/canadian-christian-universities-tour/
END:VEVENT
BEGIN:VEVENT
DTSTART;TZID=America/Toronto:20261021T090000
DTEND;TZID=America/Toronto:20261021T110000
DTSTAMP:20260423T125715
CREATED:20260422T151100Z
LAST-MODIFIED:20260422T151101Z
UID:10001074-1792573200-1792580400@tdchristian.ca
SUMMARY:Student Photo Retake Day
DESCRIPTION:This morning is for students who missed the original picture day or for those who are unhappy with their original photos.
URL:https://tdchristian.ca/event/student-photo-retake-day/
CATEGORIES:Student Event
END:VEVENT
BEGIN:VEVENT
DTSTART;TZID=America/Toronto:20261022T190000
DTEND;TZID=America/Toronto:20261022T210000
DTSTAMP:20260423T125715
CREATED:20260422T151240Z
LAST-MODIFIED:20260422T151241Z
UID:10001075-1792695600-1792702800@tdchristian.ca
SUMMARY:High School Culture Evening (for Parents & Guardians)
DESCRIPTION:Join us for a night of community and information gathering to help you come alongside your teen(s) and develop a deeper understanding of how you can support them. Listen to and learn from experts in physical\, mental\, and emotional well-being. Come with your questions! We look forward to seeing you there. \n\n\n\nFamilies can earn TWO PARENT-GUARDIAN VOLUNTEER HOURS for attending. 
URL:https://tdchristian.ca/event/high-school-culture-evening-for-parents-guardians-2/
CATEGORIES:Parent Event
END:VEVENT
BEGIN:VEVENT
DTSTART;TZID=America/Toronto:20261028T150000
DTEND;TZID=America/Toronto:20261028T200000
DTSTAMP:20260423T125715
CREATED:20260422T151429Z
LAST-MODIFIED:20260422T151430Z
UID:10001076-1793199600-1793217600@tdchristian.ca
SUMMARY:Learning Dialogues
DESCRIPTION:Parents and students are encouraged to meet with teachers for Learning Dialogues. Information regarding how to sign up for Learning Dialogues will be shared with parents. All Learning Dialogues will take place in person at school.
URL:https://tdchristian.ca/event/learning-dialogues-8/
CATEGORIES:Parent Event
END:VEVENT
BEGIN:VEVENT
DTSTART;TZID=America/Toronto:20261029T000000
DTEND;TZID=America/Toronto:20261029T235959
DTSTAMP:20260423T125715
CREATED:20260422T151557Z
LAST-MODIFIED:20260422T151651Z
UID:10001077-1793232000-1793318399@tdchristian.ca
SUMMARY:Project Day (Period 2)
DESCRIPTION:Students will work on a project for their period 2 class at home.
URL:https://tdchristian.ca/event/project-day-period-2-5/
CATEGORIES:PD Day / Project Day
END:VEVENT
BEGIN:VEVENT
DTSTART;TZID=America/Toronto:20261030T000000
DTEND;TZID=America/Toronto:20261030T235959
DTSTAMP:20260423T125715
CREATED:20260422T151836Z
LAST-MODIFIED:20260422T151836Z
UID:10001078-1793318400-1793404799@tdchristian.ca
SUMMARY:Professional Development Day (Edvance Annual Gathering)
DESCRIPTION:There is no school for students today.
URL:https://tdchristian.ca/event/professional-development-day-edvance-annual-gathering/
CATEGORIES:PD Day / Project Day
END:VEVENT
BEGIN:VEVENT
DTSTART;TZID=America/Toronto:20261104T000000
DTEND;TZID=America/Toronto:20261104T235959
DTSTAMP:20260423T125715
CREATED:20260422T152208Z
LAST-MODIFIED:20260422T152209Z
UID:10001079-1793750400-1793836799@tdchristian.ca
SUMMARY:Grade 9 TOKTWD (Take Our Kids to Work Day)
DESCRIPTION:Grade 9 students will not be at school. They will shadow a trusted adult in their workplace for the day.
URL:https://tdchristian.ca/event/grade-9-toktwd-take-our-kids-to-work-day/
CATEGORIES:Student Event
END:VEVENT
BEGIN:VEVENT
DTSTART;TZID=America/Toronto:20261104T090000
DTEND;TZID=America/Toronto:20261104T120000
DTSTAMP:20260423T125715
CREATED:20260422T152432Z
LAST-MODIFIED:20260422T152433Z
UID:10001080-1793782800-1793793600@tdchristian.ca
SUMMARY:First OSSLT (Ontario Secondary School Literacy Test)
DESCRIPTION:All Grade 10 students will write the OSSLT in the spring. A small group of students with special circumstances will write the OSSLT today.
URL:https://tdchristian.ca/event/first-osslt-ontario-secondary-school-literacy-test/
CATEGORIES:Student Event
END:VEVENT
BEGIN:VEVENT
DTSTART;TZID=America/Toronto:20261104T170000
DTEND;TZID=America/Toronto:20261104T190000
DTSTAMP:20260423T125715
CREATED:20260422T153015Z
LAST-MODIFIED:20260422T153016Z
UID:10001081-1793811600-1793818800@tdchristian.ca
SUMMARY:Board-Staff Dinner
DESCRIPTION:This event is strictly for Board Members and TDChristian Staff Members
URL:https://tdchristian.ca/event/board-staff-dinner/
CATEGORIES:Staff Event
END:VEVENT
BEGIN:VEVENT
DTSTART;TZID=America/Toronto:20261106T000000
DTEND;TZID=America/Toronto:20261106T235959
DTSTAMP:20260423T125715
CREATED:20260422T154718Z
LAST-MODIFIED:20260422T154719Z
UID:10001082-1793923200-1794009599@tdchristian.ca
SUMMARY:Professional Development Day
DESCRIPTION:There is no school for students today.
URL:https://tdchristian.ca/event/professional-development-day-6/
CATEGORIES:PD Day / Project Day
END:VEVENT
BEGIN:VEVENT
DTSTART;TZID=America/Toronto:20261106T093000
DTEND;TZID=America/Toronto:20261106T140000
DTSTAMP:20260423T125715
CREATED:20260422T160635Z
LAST-MODIFIED:20260422T160732Z
UID:10001083-1793957400-1793973600@tdchristian.ca
SUMMARY:Grade 7&8 Day
DESCRIPTION:Join us for our annual TDChristian Grade 7&8 Day and discover what over 60 years of Christian education is all about! Students will have the chance to explore our STEM Space\, discover our TV show “The Pulse\,” test their skills with Falcon Athletics\, and more! Grade 7/8 day is a great way to experience what daily life is like at TDChristian\, ask questions\, and get excited about high school. Parents are welcome to attend as well.  \n\n\n\nPlease reach out to Admissions Director\, Marissa Straatsma if you have questions.  admissions@tdchristian.ca
URL:https://tdchristian.ca/event/grade-78-day/
CATEGORIES:General Event
END:VEVENT
BEGIN:VEVENT
DTSTART;TZID=America/Toronto:20261107T090000
DTEND;TZID=America/Toronto:20261107T140000
DTSTAMP:20260423T125715
CREATED:20260422T164444Z
LAST-MODIFIED:20260422T170418Z
UID:10001086-1794042000-1794060000@tdchristian.ca
SUMMARY:Fall Market & Alumni Volleyball Tournament
DESCRIPTION:What a better way to ring in fall than with a market! \n\n\n\nJoin us on November 7 from 9 am – 2 pm for a bakery café\, harvest sale and no shortage of fun at TDChristian’s Fall Market.  Please bring cash. \n\n\n\n\nCraft Vendors\n\n\n\nBakery Cafe\n\n\n\nLunch Cafeteria \n\n\n\nHarvest Sale
URL:https://tdchristian.ca/event/fall-market-alumni-volleyball-tournament/
CATEGORIES:General Event
END:VEVENT
BEGIN:VEVENT
DTSTART;TZID=America/Toronto:20261110T190000
DTEND;TZID=America/Toronto:20261110T200000
DTSTAMP:20260423T125715
CREATED:20260422T182051Z
LAST-MODIFIED:20260422T182138Z
UID:10001087-1794337200-1794340800@tdchristian.ca
SUMMARY:Effective Giving Online Session
DESCRIPTION:Did you know you can multiply your gift by donating securities? \n\n\n\nLearn how you can save tax and invest in students through donations of shares or mutual funds and other effective giving strategies. \n\n\n\nJoin us for a complimentary seminar on Zoom.   \n\n\n\n1.5 parent/guardian volunteer hours will be given for participating in the online session on camera.
URL:https://tdchristian.ca/event/effective-giving-online-session-2/
CATEGORIES:Parent Event
END:VEVENT
BEGIN:VEVENT
DTSTART;TZID=America/Toronto:20261112T000000
DTEND;TZID=America/Toronto:20261112T235959
DTSTAMP:20260423T125715
CREATED:20260422T182710Z
LAST-MODIFIED:20260422T182711Z
UID:10001089-1794441600-1794527999@tdchristian.ca
SUMMARY:Last day of half semester courses
DESCRIPTION:
URL:https://tdchristian.ca/event/last-day-of-half-semester-courses-3/
CATEGORIES:Student Event
END:VEVENT
BEGIN:VEVENT
DTSTART;TZID=America/Toronto:20261112T180000
DTEND;TZID=America/Toronto:20261112T193000
DTSTAMP:20260423T125715
CREATED:20260422T182500Z
LAST-MODIFIED:20260422T182501Z
UID:10001088-1794506400-1794511800@tdchristian.ca
SUMMARY:Talent Night (TDChristian)
DESCRIPTION:Talent Night at TDChristian showcases the many talents of our students!
URL:https://tdchristian.ca/event/talent-night-tdchristian-2/
CATEGORIES:Student Event
END:VEVENT
BEGIN:VEVENT
DTSTART;TZID=America/Toronto:20261113T000000
DTEND;TZID=America/Toronto:20261113T235959
DTSTAMP:20260423T125715
CREATED:20260422T182830Z
LAST-MODIFIED:20260422T182831Z
UID:10001090-1794528000-1794614399@tdchristian.ca
SUMMARY:Project Day (Period 1)
DESCRIPTION:Students will be at home today\, working on a project for their period 1 class. Busses will not run.
URL:https://tdchristian.ca/event/project-day-period-1-6/
CATEGORIES:PD Day / Project Day
END:VEVENT
BEGIN:VEVENT
DTSTART;TZID=America/Toronto:20261117T170000
DTEND;TZID=America/Toronto:20261117T170000
DTSTAMP:20260423T125715
CREATED:20260422T183005Z
LAST-MODIFIED:20260422T183006Z
UID:10001091-1794934800-1794934800@tdchristian.ca
SUMMARY:Midterm Learning Reports shared in Edsby
DESCRIPTION:
URL:https://tdchristian.ca/event/midterm-learning-reports-shared-in-edsby-3/
CATEGORIES:Calendar Event
END:VEVENT
BEGIN:VEVENT
DTSTART;TZID=America/Toronto:20261118T090000
DTEND;TZID=America/Toronto:20261118T110000
DTSTAMP:20260423T125715
CREATED:20260422T183225Z
LAST-MODIFIED:20260422T183226Z
UID:10001092-1794992400-1794999600@tdchristian.ca
SUMMARY:Canadian Senior/Intermediate Math Contest
DESCRIPTION:Watch the morning announcements for details on how to register for these contests.
URL:https://tdchristian.ca/event/canadian-senior-intermediate-math-contest/
CATEGORIES:Student Event
END:VEVENT
END:VCALENDAR